BEGIN:VCALENDAR
VERSION:2.0
PRODID:spatie/icalendar-generator
DESCRIPTION:Events from Tipping and Company
X-WR-CALDESC:Events from Tipping and Company
REFRESH-INTERVAL;VALUE=DURATION:PT1440M
X-PUBLISHED-TTL:PT1440M
BEGIN:VTIMEZONE
TZID:America/Los_Angeles
BEGIN:STANDARD
DTSTART:20251102T020000Z
TZOFFSETFROM:-0700
TZOFFSETTO:-0800
END:STANDARD
BEGIN:DAYLIGHT
DTSTART:20260308T020000Z
TZOFFSETFROM:-0800
TZOFFSETTO:-0700
END:DAYLIGHT
BEGIN:STANDARD
DTSTART:20261101T020000Z
TZOFFSETFROM:-0700
TZOFFSETTO:-0800
END:STANDARD
END:VTIMEZONE
BEGIN:VTIMEZONE
TZID:UTC
BEGIN:STANDARD
DTSTART:20250726T083216Z
TZOFFSETFROM:+0000
TZOFFSETTO:+0000
END:STANDARD
END:VTIMEZONE
BEGIN:VEVENT
UID:622-65
DTSTAMP:20260422T083216Z
SUMMARY:Individuals
LOCATION:
ORGANIZER;CN=tippingandco:MAILTO:dave.krogle@dk-webdev.com
RRULE:FREQ=YEARLY;BYMONTH=06;BYDAY=15;UNTIL=20301115T000000Z
DTSTART;TZID=America/Los_Angeles:20260615T000000
DTEND;TZID=America/Los_Angeles:20260615T010000
X-ALT-DESC;FMTTYPE=TEXT/HTML:<p>Individuals – Make a payment of your curr
 ent estimated tax if you are not paying your income tax for the year throu
 gh withholding (or will not pay in enough tax that way). Use Form 1040-ES.
  This is the second installment date for estimated tax in current year.</p>\n
CATEGORIES:General
URL;VALUE=URI:https://tippingtax.com/mc-events/individuals-9/?mc_id=622
METHOD:PUBLISH
END:VEVENT
END:VCALENDAR